BEGIN:VCALENDAR
VERSION:2.0
PRODID:-//Department Of Education//8b60540a-7f73-4aee-8b14-11e7c1202939
BEGIN:VTIMEZONE
TZID:Australia/Sydney
TZURL:http://tzurl.org/zoneinfo-outlook/Australia/Sydney
X-LIC-LOCATION:Australia/Sydney
BEGIN:STANDARD
TZOFFSETFROM:+1100
TZOFFSETTO:+1000
TZNAME:AEST
DTSTART:19700405T030000
RRULE:FREQ=YEARLY;BYMONTH=4;BYDAY=1SU
END:STANDARD
BEGIN:DAYLIGHT
TZOFFSETFROM:+1000
TZOFFSETTO:+1100
TZNAME:AEDT
DTSTART:19701004T020000
RRULE:FREQ=YEARLY;BYMONTH=10;BYDAY=1SU
END:DAYLIGHT
END:VTIMEZONE
CALSCALE:GREGORIAN
X-WR-TIMEZONE:Australia/Sydney
BEGIN:VEVENT
DTSTART;TZID=Australia/Sydney:20200228T080000
DTEND;TZID=Australia/Sydney:20200228T090000
DTSTAMP:20200228T000000Z
UID:d460f20c-2f21-4040-80ac-a3d96f6968d4
LOCATION:Meadowbank Public School - in the library
SUMMARY;LANGUAGE=en-us:Transition to high school information session
SEQUENCE:0
DESCRIPTION:A transition to high school information session for Year 6 parents with guest speakers from our local high school (Marsden) will be held on 28th February at 8am in the library.
END:VEVENT
TRANSP:TRANSPARENT
END:VCALENDAR
