BEGIN:VCALENDAR
VERSION:2.0
PRODID:-//Department Of Education//0d46db57-205f-4eb6-a178-ef3ea0bf22da
BEGIN:VTIMEZONE
TZID:Australia/Sydney
TZURL:http://tzurl.org/zoneinfo-outlook/Australia/Sydney
X-LIC-LOCATION:Australia/Sydney
BEGIN:STANDARD
TZOFFSETFROM:+1100
TZOFFSETTO:+1000
TZNAME:AEST
DTSTART:19700405T030000
RRULE:FREQ=YEARLY;BYMONTH=4;BYDAY=1SU
END:STANDARD
BEGIN:DAYLIGHT
TZOFFSETFROM:+1000
TZOFFSETTO:+1100
TZNAME:AEDT
DTSTART:19701004T020000
RRULE:FREQ=YEARLY;BYMONTH=10;BYDAY=1SU
END:DAYLIGHT
END:VTIMEZONE
CALSCALE:GREGORIAN
X-WR-TIMEZONE:Australia/Sydney
BEGIN:VEVENT
DTSTART;VALUE=DATE:20200228
DTEND;VALUE=DATE:20200229
DTSTAMP:20200228T000000Z
UID:6abc2815-9fcb-40bf-ae1d-3ef5af9812e6
LOCATION:Meadowbank Public School
SUMMARY;LANGUAGE=en-us:Clean up Australia day
SEQUENCE:0
DESCRIPTION:On Friday 28 February Meadowbank students will participate in the annual ?Clean-up Australia Day?. K-2 will be cleaning the front entry area to the school and under the COLA, 3-6 will be cleaning in front of the hall and the field. Meadowbank has been provided with some eco-friendly gloves and collection bags however we are encouraging families to please send extra gloves to pick up rubbish.
END:VEVENT
TRANSP:TRANSPARENT
END:VCALENDAR
